BEGIN:VCALENDAR
VERSION:2.0
PRODID:-//Squarespace Inc/Squarespace 6//v6//EN
BEGIN:VEVENT
UID:5975179c2994ca0d03c84622@squarespace.com
DTSTAMP:20170727T040735Z
DTSTART:20170908T120000Z
DTEND:20170908T130000Z
SUMMARY:8H - CBL - English/History (Mr Hadfield) The Block Finale - Display 
 Piece
END:VEVENT
END:VCALENDAR
