BEGIN:VCALENDAR
VERSION:2.0
PRODID:-//Squarespace Inc/Squarespace 6//v6//EN
BEGIN:VEVENT
UID:59751787e4fcb57d71638aba@squarespace.com
DTSTAMP:20170726T232700Z
DTSTART:20170908T120000Z
DTEND:20170908T130000Z
SUMMARY:8H - CBL - English/History (Miss Matthew) The Block Finale - Displa
 y Piece
END:VEVENT
END:VCALENDAR
