BEGIN:VCALENDAR
VERSION:2.0
PRODID:-//Squarespace Inc/Squarespace 6//v6//EN
BEGIN:VEVENT
UID:597517f9d7bdcef6478af0fa@squarespace.com
DTSTAMP:20170727T040715Z
DTSTART:20170908T120000Z
DTEND:20170908T130000Z
SUMMARY:8M - Art & Design (Mrs Bennett) Design Project
END:VEVENT
END:VCALENDAR
