BEGIN:VCALENDAR
VERSION:2.0
PRODID:-//Squarespace Inc/Squarespace 6//v6//EN
BEGIN:VEVENT
UID:5975181e6f4ca31f25608c5f@squarespace.com
DTSTAMP:20170727T040147Z
DTSTART:20170908T120000Z
DTEND:20170908T130000Z
SUMMARY:8M - CBL - English/History (Mr McKeown) The Block Finale - Display 
 Piece
END:VEVENT
END:VCALENDAR
