BEGIN:VCALENDAR
VERSION:2.0
PRODID:-//Squarespace Inc/Squarespace 6//v6//EN
BEGIN:VEVENT
UID:59751704d7bdcef6478ae655@squarespace.com
DTSTAMP:20170726T232311Z
DTSTART:20170908T120000Z
DTEND:20170908T130000Z
SUMMARY:8H - Drama (Ms Gault) Improvisation Performance
END:VEVENT
END:VCALENDAR
