BEGIN:VCALENDAR
VERSION:2.0
PRODID:-//Squarespace Inc/Squarespace 6//v6//EN
BEGIN:VEVENT
UID:59e6bc40f9a61e35b8ca55b9@squarespace.com
DTSTAMP:20171018T023018Z
DTSTART:20171110T003000Z
DTEND:20171110T014000Z
SUMMARY:9 - Drama-Mrs Larner (Performance)
END:VEVENT
END:VCALENDAR
