BEGIN:VCALENDAR
VERSION:2.0
PRODID:-//Squarespace Inc/Squarespace 6//v6//EN
BEGIN:VEVENT
UID:59e6c11580bd5e0c46814b61@squarespace.com
DTSTAMP:20171018T025116Z
DTSTART:20171120T033000Z
DTEND:20171120T044000Z
SUMMARY:9 - Mathematics - Mr Trevillion (Exam)
END:VEVENT
END:VCALENDAR
