BEGIN:VCALENDAR
VERSION:2.0
PRODID:-//Squarespace Inc/Squarespace 6//v6//EN
BEGIN:VEVENT
UID:59e6bdef4c326d1f175f5e30@squarespace.com
DTSTAMP:20171018T023546Z
DTSTART:20171109T230000Z
DTEND:20171109T230000Z
SUMMARY:9 - Business Innovations - Mrs Hooper (Assignment Draft)
END:VEVENT
END:VCALENDAR
