BEGIN:VCALENDAR
VERSION:2.0
PRODID:-//Squarespace Inc/Squarespace 6//v6//EN
BEGIN:VEVENT
UID:59e6bcd729f1876c72db389f@squarespace.com
DTSTAMP:20171018T023140Z
DTSTART:20171109T230000Z
DTEND:20171109T230000Z
SUMMARY:9 - Equine - Mrs Carpenter - (Health Science - Assignment) 
END:VEVENT
END:VCALENDAR
