BEGIN:VCALENDAR
VERSION:2.0
PRODID:-//Squarespace Inc/Squarespace 6//v6//EN
BEGIN:VEVENT
UID:59e6bdc6fe54ef1cd45f034b@squarespace.com
DTSTAMP:20171018T023508Z
DTSTART:20171109T230000Z
DTEND:20171109T230000Z
SUMMARY:9H - English - Mrs Humphreys (Analytical Essay Plan)
END:VEVENT
END:VCALENDAR
