BEGIN:VCALENDAR
VERSION:2.0
PRODID:-//Squarespace Inc/Squarespace 6//v6//EN
BEGIN:VEVENT
UID:59e6beae8a02c7265b5df3df@squarespace.com
DTSTAMP:20171018T023857Z
DTSTART:20171112T230000Z
DTEND:20171113T000000Z
SUMMARY:9G - History - Ms Gault (Research booklet and draft presentation)
END:VEVENT
END:VCALENDAR
