BEGIN:VCALENDAR
VERSION:2.0
PRODID:-//Squarespace Inc/Squarespace 6//v6//EN
BEGIN:VEVENT
UID:59e6becb6f4ca39efc000639@squarespace.com
DTSTAMP:20171018T023925Z
DTSTART:20171112T230000Z
DTEND:20171112T230000Z
SUMMARY:9H - History - Ms Gault (Research booklet and draft presentation)
END:VEVENT
END:VCALENDAR
