BEGIN:VCALENDAR
VERSION:2.0
PRODID:-//Squarespace Inc/Squarespace 6//v6//EN
BEGIN:VEVENT
UID:59e6be0b2aeba5fd99e08c0e@squarespace.com
DTSTAMP:20171018T023618Z
DTSTART:20171113T230000Z
DTEND:20171113T230000Z
SUMMARY:9 - HPE- Active Aussie Assignment
END:VEVENT
END:VCALENDAR
