BEGIN:VCALENDAR
VERSION:2.0
PRODID:-//Squarespace Inc/Squarespace 6//v6//EN
BEGIN:VEVENT
UID:59e6be3149fc2b15acbe8296@squarespace.com
DTSTAMP:20171018T023700Z
DTSTART:20171114T230000Z
DTEND:20171115T000000Z
SUMMARY:9 - Agriculture - Mrs Stewart (Bee exam)
END:VEVENT
END:VCALENDAR
