BEGIN:VCALENDAR
VERSION:2.0
PRODID:-//Squarespace Inc/Squarespace 6//v6//EN
BEGIN:VEVENT
UID:59e6bf0e29f1876c72db5369@squarespace.com
DTSTAMP:20171018T024032Z
DTSTART:20171114T230000Z
DTEND:20171114T230000Z
SUMMARY:9 - Food Technology - Mrs Downes (Assignment)
END:VEVENT
END:VCALENDAR
