BEGIN:VCALENDAR
VERSION:2.0
PRODID:-//Squarespace Inc/Squarespace 6//v6//EN
BEGIN:VEVENT
UID:59e6bf2cf09ca4e836d58cb5@squarespace.com
DTSTAMP:20171018T024118Z
DTSTART:20171115T230000Z
DTEND:20171116T000000Z
SUMMARY:9B - Science - Mr Ball (Body Coordination and Disease Exam)
END:VEVENT
END:VCALENDAR
