BEGIN:VCALENDAR
VERSION:2.0
PRODID:-//Squarespace Inc/Squarespace 6//v6//EN
BEGIN:VEVENT
UID:59e6c0ec692ebe2b0dbe3fc1@squarespace.com
DTSTAMP:20171018T024838Z
DTSTART:20171119T230000Z
DTEND:20171120T000000Z
SUMMARY:9 - Mathematics - Mrs Burt (Exam)
END:VEVENT
END:VCALENDAR
