BEGIN:VCALENDAR
VERSION:2.0
PRODID:-//Squarespace Inc/Squarespace 6//v6//EN
BEGIN:VEVENT
UID:59e6c0bfc027d82b6601e383@squarespace.com
DTSTAMP:20171018T024802Z
DTSTART:20171120T033000Z
DTEND:20171120T044000Z
SUMMARY:9 - Mathematics - Mrs L Harrold (Exam)
END:VEVENT
END:VCALENDAR
