BEGIN:VCALENDAR
VERSION:2.0
PRODID:-//Squarespace Inc/Squarespace 6//v6//EN
BEGIN:VEVENT
UID:59e6c01c017db2f18e4d1935@squarespace.com
DTSTAMP:20171018T024458Z
DTSTART:20171119T230000Z
DTEND:20171119T230000Z
SUMMARY:9B - English - Mrs du Toit  (Analytical Essay Examination)
END:VEVENT
END:VCALENDAR
