BEGIN:VCALENDAR
VERSION:2.0
PRODID:-//Squarespace Inc/Squarespace 6//v6//EN
BEGIN:VEVENT
UID:59e6c03790bade55d9e632cb@squarespace.com
DTSTAMP:20171018T024524Z
DTSTART:20171119T230000Z
DTEND:20171119T230000Z
SUMMARY:9G - English - Mrs Buttsworth (Analytical Essay Examination)
END:VEVENT
END:VCALENDAR
