BEGIN:VCALENDAR
VERSION:2.0
PRODID:-//Squarespace Inc/Squarespace 6//v6//EN
BEGIN:VEVENT
UID:59e6bfba2aeba5fd99e09f91@squarespace.com
DTSTAMP:20171018T024320Z
DTSTART:20171119T230000Z
DTEND:20171119T230000Z
SUMMARY:9G - History - Ms Gault (Final presentation)
END:VEVENT
END:VCALENDAR
