BEGIN:VCALENDAR
VERSION:2.0
PRODID:-//Squarespace Inc/Squarespace 6//v6//EN
BEGIN:VEVENT
UID:59e6bfd7d0e6280f6e385625@squarespace.com
DTSTAMP:20171018T024355Z
DTSTART:20171119T230000Z
DTEND:20171119T230000Z
SUMMARY:9H -  History - Ms Gault (Final presentation)
END:VEVENT
END:VCALENDAR
