BEGIN:VCALENDAR
VERSION:2.0
PRODID:-//Squarespace Inc/Squarespace 6//v6//EN
BEGIN:VEVENT
UID:59e6be81e5dd5b46391ccd05@squarespace.com
DTSTAMP:20171018T023820Z
DTSTART:20171121T033000Z
DTEND:20171121T044000Z
SUMMARY:9 - Dance - Practical & Written Presentation - Mrs D McGann
END:VEVENT
END:VCALENDAR
