BEGIN:VCALENDAR
VERSION:2.0
PRODID:-//Squarespace Inc/Squarespace 6//v6//EN
BEGIN:VEVENT
UID:59e6c055b1ffb6180a35be3d@squarespace.com
DTSTAMP:20171018T024555Z
DTSTART:20171120T230000Z
DTEND:20171120T230000Z
SUMMARY:9 - DIGITAL DESIGN - BENNETT (PROJECT)
END:VEVENT
END:VCALENDAR
