BEGIN:VCALENDAR
VERSION:2.0
PRODID:-//Squarespace Inc/Squarespace 6//v6//EN
BEGIN:VEVENT
UID:59e6c06f90bade55d9e634fc@squarespace.com
DTSTAMP:20171018T024619Z
DTSTART:20171121T230000Z
DTEND:20171121T230000Z
SUMMARY:9 - ART - BENNETT (MAJOR ARTWORK)
END:VEVENT
END:VCALENDAR
