BEGIN:VCALENDAR
VERSION:2.0
PRODID:-//Squarespace Inc/Squarespace 6//v6//EN
BEGIN:VEVENT
UID:59e6c08aa8b2b0c3b7f81bfc@squarespace.com
DTSTAMP:20171018T024648Z
DTSTART:20171121T230000Z
DTEND:20171121T230000Z
SUMMARY:9 - Industrial Graphics - Mr Manskie (Drawing Folio)
END:VEVENT
END:VCALENDAR
