BEGIN:VCALENDAR
VERSION:2.0
PRODID:-//Squarespace Inc/Squarespace 6//v6//EN
BEGIN:VEVENT
UID:59e6c0a5a9db0951565b5a8d@squarespace.com
DTSTAMP:20171018T024715Z
DTSTART:20171123T230000Z
DTEND:20171123T230000Z
SUMMARY:9 - Manufacturing - Mr Manskie (Small Projects)
END:VEVENT
END:VCALENDAR
