BEGIN:VCALENDAR
VERSION:2.0
PRODID:-//Squarespace Inc/Squarespace 6//v6//EN
BEGIN:VEVENT
UID:59e6bd1e29f1876c72db3bbd@squarespace.com
DTSTAMP:20171018T023218Z
DTSTART:20171106T230000Z
DTEND:20171106T230000Z
SUMMARY:9 - Drama - Mrs Larner (Logbook)
END:VEVENT
END:VCALENDAR
