BEGIN:VCALENDAR
VERSION:2.0
PRODID:-//Squarespace Inc/Squarespace 6//v6//EN
BEGIN:VEVENT
UID:59e6bd418c56a815a1cfdb62@squarespace.com
DTSTAMP:20171018T023251Z
DTSTART:20171107T230000Z
DTEND:20171107T230000Z
SUMMARY:9 - Cinematography - Mr Jeffs (Music Video Production)
END:VEVENT
END:VCALENDAR
