BEGIN:VCALENDAR
VERSION:2.0
PRODID:-//Squarespace Inc/Squarespace 6//v6//EN
BEGIN:VEVENT
UID:59e6bd646f4ca39efcfff3cd@squarespace.com
DTSTAMP:20171018T023324Z
DTSTART:20171108T230000Z
DTEND:20171108T230000Z
SUMMARY:9B - English - Mrs du Toit (Analytical Essay Plan)
END:VEVENT
END:VCALENDAR
