BEGIN:VCALENDAR
VERSION:2.0
PRODID:-//Squarespace Inc/Squarespace 6//v6//EN
BEGIN:VEVENT
UID:59e6bda89f07f52e7c328da6@squarespace.com
DTSTAMP:20171018T023431Z
DTSTART:20171108T230000Z
DTEND:20171108T230000Z
SUMMARY:9B - Science - Mr Ball (Nervous System Disorders Report)
END:VEVENT
END:VCALENDAR
