BEGIN:VCALENDAR
VERSION:2.0
PRODID:-//Squarespace Inc/Squarespace 6//v6//EN
BEGIN:VEVENT
UID:59e6bd808a02c7265b5de4b4@squarespace.com
DTSTAMP:20171018T023402Z
DTSTART:20171108T230000Z
DTEND:20171108T230000Z
SUMMARY:9G - English - Mrs Buttsworth (Analytical Essay Plan)
END:VEVENT
END:VCALENDAR
