BEGIN:VCALENDAR
VERSION:2.0
PRODID:-//Squarespace Inc/Squarespace 6//v6//EN
BEGIN:VEVENT
UID:597519e320099e96a39810da@squarespace.com
DTSTAMP:20170723T214928Z
DTSTART:20170726T120000Z
DTEND:20170726T200000Z
SUMMARY:9H - English (Mrs Humphreys) Formative C/P 2: In-class Comprehensio
 n
END:VEVENT
END:VCALENDAR
