BEGIN:VCALENDAR
VERSION:2.0
PRODID:-//Squarespace Inc/Squarespace 6//v6//EN
BEGIN:VEVENT
UID:59751ae1be6594496c72c632@squarespace.com
DTSTAMP:20170821T220529Z
DTSTART:20170901T120000Z
DTEND:20170901T130000Z
SUMMARY:9B- Mathematics (Mr Trevillion) Rainwater Tank Assessment Task
END:VEVENT
END:VCALENDAR
