BEGIN:VCALENDAR
VERSION:2.0
PRODID:-//Squarespace Inc/Squarespace 6//v6//EN
BEGIN:VEVENT
UID:59751b07414fb5f8aba46c13@squarespace.com
DTSTAMP:20170821T220450Z
DTSTART:20170901T120000Z
DTEND:20170901T130000Z
SUMMARY:9G - Mathematics (Mrs Burt) Rainwater Tank Assessment Task
END:VEVENT
END:VCALENDAR
