BEGIN:VCALENDAR
VERSION:2.0
PRODID:-//Squarespace Inc/Squarespace 6//v6//EN
BEGIN:VEVENT
UID:59751c2f7131a526075b12a7@squarespace.com
DTSTAMP:20170727T043905Z
DTSTART:20170830T120000Z
DTEND:20170830T130000Z
SUMMARY:9 - Food Technology (Mrs Downes) Multimodal Assignment (Draft)
END:VEVENT
END:VCALENDAR
