BEGIN:VCALENDAR
VERSION:2.0
PRODID:-//Squarespace Inc/Squarespace 6//v6//EN
BEGIN:VEVENT
UID:59751d89cd0f689adba0f3e9@squarespace.com
DTSTAMP:20170727T044904Z
DTSTART:20170905T120000Z
DTEND:20170905T130000Z
SUMMARY:9B - HPE (Mrs Harrold) Assignment - Media in Sport
END:VEVENT
END:VCALENDAR
