BEGIN:VCALENDAR
VERSION:2.0
PRODID:-//Squarespace Inc/Squarespace 6//v6//EN
BEGIN:VEVENT
UID:59751d5a17bffc066d15587d@squarespace.com
DTSTAMP:20170727T044821Z
DTSTART:20170905T120000Z
DTEND:20170905T130000Z
SUMMARY:9B - HPE (Mr Lovejoy) Assignment - Media in Sport
END:VEVENT
END:VCALENDAR
