BEGIN:VCALENDAR
VERSION:2.0
PRODID:-//Squarespace Inc/Squarespace 6//v6//EN
BEGIN:VEVENT
UID:59751e4a37c581dd4631acd7@squarespace.com
DTSTAMP:20170727T045132Z
DTSTART:20170912T120000Z
DTEND:20170912T130000Z
SUMMARY:9 - Design (Mrs Bennett) Animate Folio
END:VEVENT
END:VCALENDAR
