BEGIN:VCALENDAR
VERSION:2.0
PRODID:-//Squarespace Inc/Squarespace 6//v6//EN
BEGIN:VEVENT
UID:59751ebe579fb3d3de028f6c@squarespace.com
DTSTAMP:20170727T052533Z
DTSTART:20170914T120000Z
DTEND:20170914T130000Z
SUMMARY: 9G - Geography (Ms Gault) Biomes and Food Security: Part 3
END:VEVENT
END:VCALENDAR
