BEGIN:VCALENDAR
VERSION:2.0
PRODID:-//Squarespace Inc/Squarespace 6//v6//EN
BEGIN:VEVENT
UID:59751ed2b8a79b94b0c58a57@squarespace.com
DTSTAMP:20170727T052615Z
DTSTART:20170914T120000Z
DTEND:20170914T130000Z
SUMMARY:9H - Geography (Ms Gault) Biomes and Food Security: Part 3
END:VEVENT
END:VCALENDAR
