BEGIN:VCALENDAR
VERSION:2.0
PRODID:-//Squarespace Inc/Squarespace 6//v6//EN
BEGIN:VEVENT
UID:59751e9ea5790aef87e7a484@squarespace.com
DTSTAMP:20170727T052447Z
DTSTART:20170914T120000Z
DTEND:20170914T130000Z
SUMMARY:9B - Geography (Mr Goetze) Biomes and Food Security: Part 3
END:VEVENT
END:VCALENDAR
