BEGIN:VCALENDAR
VERSION:2.0
PRODID:-//Squarespace Inc/Squarespace 6//v6//EN
BEGIN:VEVENT
UID:59751e018419c204deeb19ce@squarespace.com
DTSTAMP:20170727T045024Z
DTSTART:20170912T120000Z
DTEND:20170912T130000Z
SUMMARY:9 - Cinematography (Mr Jeffs) Production - Music Video
END:VEVENT
END:VCALENDAR
