BEGIN:VCALENDAR
VERSION:2.0
PRODID:-//Squarespace Inc/Squarespace 6//v6//EN
BEGIN:VEVENT
UID:59751dd546c3c431eb602ee8@squarespace.com
DTSTAMP:20170727T051730Z
DTSTART:20170913T120000Z
DTEND:20170913T130000Z
SUMMARY:9 - Art (Mrs Bennett) Final Artwork + Diary
END:VEVENT
END:VCALENDAR
