BEGIN:VCALENDAR
VERSION:2.0
PRODID:-//Squarespace Inc/Squarespace 6//v6//EN
BEGIN:VEVENT
UID:59751db9f7e0ab04b3ade123@squarespace.com
DTSTAMP:20170727T044945Z
DTSTART:20170906T120000Z
DTEND:20170906T130000Z
SUMMARY:9 - Food Technology (Mrs Downes) Multimodal Assignment (Final)
END:VEVENT
END:VCALENDAR
