BEGIN:VCALENDAR
VERSION:2.0
PRODID:-//Squarespace Inc/Squarespace 6//v6//EN
BEGIN:VEVENT
UID:59751d17a5790aef87e79333@squarespace.com
DTSTAMP:20170727T044650Z
DTSTART:20170905T120000Z
DTEND:20170905T130000Z
SUMMARY:9H - HPE (Mr McGann) Assignment - Media in Sport
END:VEVENT
END:VCALENDAR
