BEGIN:VCALENDAR
VERSION:2.0
PRODID:-//Squarespace Inc/Squarespace 6//v6//EN
BEGIN:VEVENT
UID:59751cfc20099e96a3983504@squarespace.com
DTSTAMP:20170827T232941Z
DTSTART:20170911T120000Z
DTEND:20170918T130000Z
SUMMARY:9H - English (Mrs Humphreys) Rabbits Visual Analysis
END:VEVENT
END:VCALENDAR
