BEGIN:VCALENDAR
VERSION:2.0
PRODID:-//Squarespace Inc/Squarespace 6//v6//EN
BEGIN:VEVENT
UID:59751ceaa803bb32e7a43fdf@squarespace.com
DTSTAMP:20170827T233031Z
DTSTART:20170911T120000Z
DTEND:20170918T130000Z
SUMMARY:9G - English (Mrs Buttsworth) Rabbits Visual Analysis
END:VEVENT
END:VCALENDAR
