BEGIN:VCALENDAR
VERSION:2.0
PRODID:-//Squarespace Inc/Squarespace 6//v6//EN
BEGIN:VEVENT
UID:59751ccecd39c3164925fb8f@squarespace.com
DTSTAMP:20170827T233005Z
DTSTART:20170911T120000Z
DTEND:20170911T130000Z
SUMMARY:9B - English (Mrs du Toit) Rabbits Visual Analysis
END:VEVENT
END:VCALENDAR
