BEGIN:VCALENDAR
VERSION:2.0
PRODID:-//Squarespace Inc/Squarespace 6//v6//EN
BEGIN:VEVENT
UID:59751cad3e00be4843ece529@squarespace.com
DTSTAMP:20170727T044317Z
DTSTART:20170901T120000Z
DTEND:20170901T130000Z
SUMMARY:9 - Drama (Mrs Larner) Play Analysis
END:VEVENT
END:VCALENDAR
